BEGIN:VCALENDAR
VERSION:2.0
PRODID:-//Tukios.com/
BEGIN:VEVENT
UID:1a68cace-53bb-47ae-9a47-b414dd47c726@www.carlsonandriggsfh.com
DTSTAMP:20260424T183403Z
DTSTART:20260426T220000Z
DTEND:20260427T010000Z
SUMMARY:Celebration of Life
DESCRIPTION:
URL:https://www.carlsonandriggsfh.com/obituaries/taylor-williams
LOCATION:1001 N Broadway St 1001 N Broadway St  Johnson City TN 37601
GEO:36.3383324;-82.3512923
END:VEVENT
END:VCALENDAR