BEGIN:VCALENDAR
VERSION:2.0
PRODID:-//Tukios.com/
BEGIN:VEVENT
UID:c0152661-b0b0-4181-9a57-05b83d2fffde@www.carlsonandriggsfh.com
DTSTAMP:20260424T205012Z
DTSTART:20260427T180000Z
DTEND:20260427T190000Z
SUMMARY:Funeral Service
DESCRIPTION:
URL:https://www.carlsonandriggsfh.com/obituaries/dorothy-bryan
LOCATION:Corinth Baptist Church   Corinth Church Road  Springfield GA 
	31329
GEO:32.5112781;-81.3565823
END:VEVENT
END:VCALENDAR