BEGIN:VCALENDAR
VERSION:2.0
PRODID:-//Tukios.com/
BEGIN:VEVENT
UID:c9dfd1c3-2235-4643-b340-6feb0e53fe7f@www.carlsonandriggsfh.com
DTSTAMP:20260424T204811Z
DTSTART:20260427T170000Z
DTEND:20260427T180000Z
SUMMARY:Visitation
DESCRIPTION:
URL:https://www.carlsonandriggsfh.com/obituaries/dorothy-bryan
LOCATION:Corinth Baptist Church   Corinth Church Road  Springfield GA 
	31329
GEO:32.5112781;-81.3565823
END:VEVENT
END:VCALENDAR